BEGIN:VCALENDAR
METHOD:PUBLISH
VERSION:2.0
CALSCALE:GREGORIAN
PRODID:-//NONSGML WPForms//NONSGML Sugar Calendar Feeds v3.11.0//EN
X-WR-CALNAME:Business Continuity Management unter DORA
X-WR-CALDESC:IT Finanzmagazin
X-WR-TIMEZONE:Europe/Berlin
BEGIN:VTIMEZONE
TZID:Europe/Berlin
BEGIN:DAYLIGHT
TZOFFSETFROM:+0100
TZOFFSETTO:+0200
DTSTART:20260329T010000
TZNAME:CEST
END:DAYLIGHT
END:VTIMEZONE
BEGIN:VTIMEZONE
TZID:Europe/Berlin
BEGIN:DAYLIGHT
TZOFFSETFROM:+0100
TZOFFSETTO:+0200
DTSTART:20260329T010000
TZNAME:CEST
END:DAYLIGHT
END:VTIMEZONE
BEGIN:VEVENT
SUMMARY:Business Continuity Management unter DORA
DESCRIPTION:DORA definiert klare Anforderungen an die operative Widersta
 ndsfÃ¤higkeit und verpflichtet Unternehmen zu belastbaren Notfall- und W
 iederanlaufstrukturen.\n\nDer Webcast vermittelt praxisorientiert:\n\n+ 
 zentrale BCM-Pflichten nach Art. 11 DORA: Identifikation kritischer Funk
 tionen\, Service-Mapping\, AbhÃ¤ngigkeiten von IKT-Ressourcen sowie Anfo
 rderungen an Wiederanlaufstrategien und Impact Tolerances.\n+ Entwicklun
 g und Pflege eines belastbaren BCM-Frameworks: Aufbau von Szenarien\, De
 finition von RTO/RPO\, Planung und DurchfÃ¼hrung von Tests und Ãœbungen 
 sowie Integration mit bestehenden Standards (z.B. ISO 22301/BSI 200-4).\
 n+ praktische Umsetzung und typische Schwachstellen: Lessons Learned aus
  echten NotfÃ¤llen\, hÃ¤ufige Fehler in der Praxis und Best Practices fÃ
 ¼r resilientere Betriebsmodelle.\n\nDer Webcast bietet nicht nur fachlic
 hen Input\, sondern auch Gelegenheit fÃ¼r Austausch und Diskussion â€“ d
 amit Sie nicht nur DORA-konform\, sondern auch fit fÃ¼r die kommenden Au
 dits sind.\n\nEvent-Website: https://events.teams.microsoft.com/event/8e
 059292-f0fb-48ee-95d6-fd9fb03e07a3@1835074e-53c9-40a8-9929-7dda4e1f5333
URL;VALUE=URI:https://www.it-finanzmagazin.de/events/business-continuity
 -management-unter-dora/
UID:urn:uuid:15d5f1ec-a37f-42f2-b9e3-1319bc2de9ee
STATUS:CONFIRMED
ORGANIZER:
DTSTAMP:20260420T004746Z
DTSTART;TZID=Europe/Berlin:20260703T110000
DTEND;TZID=Europe/Berlin:20260703T120000
LOCATION:Online
END:VEVENT
END:VCALENDAR