BEGIN:VCALENDAR
METHOD:PUBLISH
VERSION:2.0
CALSCALE:GREGORIAN
PRODID:-//NONSGML WPForms//NONSGML Sugar Calendar Feeds v3.11.0//EN
X-WR-CALNAME:CamundaCon 2026: Konferenz für Agentic Orchestration
X-WR-CALDESC:IT Finanzmagazin
X-WR-TIMEZONE:Europe/Berlin
BEGIN:VTIMEZONE
TZID:Europe/Berlin
BEGIN:DAYLIGHT
TZOFFSETFROM:+0100
TZOFFSETTO:+0200
DTSTART:20260329T010000
TZNAME:CEST
END:DAYLIGHT
END:VTIMEZONE
BEGIN:VTIMEZONE
TZID:Europe/Berlin
BEGIN:DAYLIGHT
TZOFFSETFROM:+0100
TZOFFSETTO:+0200
DTSTART:20260329T010000
TZNAME:CEST
END:DAYLIGHT
END:VTIMEZONE
BEGIN:VEVENT
SUMMARY:CamundaCon 2026: Konferenz für Agentic Orchestration
DESCRIPTION:Lernen Sie auf der Konferenz für Agentic Orchestration\, wi
 e Sie die „Automatisierungsdecke“ überwinden.\n\nÜber 45 Sessions 
 zeigen\, wie man KI-Agenten sicher in die Produktion überführt.\n\n&nb
 sp\;\n\nWebsite: https://www.camundacon.com/
URL;VALUE=URI:https://www.it-finanzmagazin.de/events/camundacon-2026/
UID:urn:uuid:5da6401a-2040-4a9b-9db8-38696cc97122
STATUS:CONFIRMED
ORGANIZER:
DTSTAMP:20260420T004713Z
DTSTART;TZID=Europe/Berlin:20260519T090000
DTEND;TZID=Europe/Berlin:20260521T163000
LOCATION:Amsterdam
END:VEVENT
END:VCALENDAR