BEGIN:VCALENDAR
METHOD:PUBLISH
VERSION:2.0
CALSCALE:GREGORIAN
PRODID:-//NONSGML WPForms//NONSGML Sugar Calendar Feeds v3.11.0//EN
X-WR-CALNAME:Convista FICO-Forum-Infotage: Finance im Fokus
X-WR-CALDESC:IT Finanzmagazin
X-WR-TIMEZONE:Europe/Berlin
BEGIN:VTIMEZONE
TZID:Europe/Berlin
BEGIN:DAYLIGHT
TZOFFSETFROM:+0100
TZOFFSETTO:+0200
DTSTART:20260329T010000
TZNAME:CEST
END:DAYLIGHT
END:VTIMEZONE
BEGIN:VTIMEZONE
TZID:Europe/Berlin
BEGIN:DAYLIGHT
TZOFFSETFROM:+0100
TZOFFSETTO:+0200
DTSTART:20260329T010000
TZNAME:CEST
END:DAYLIGHT
END:VTIMEZONE
BEGIN:VEVENT
SUMMARY:Convista FICO-Forum-Infotage: Finance im Fokus
DESCRIPTION:Am 9. und 10. Juni finden in Köln die FICO-Forum-Infotage s
 tatt. Im Mittelpunkt stehen praxisnahes Expertenwissen sowie Austausch z
 u aktuellen Entwicklungen im SAP-Finance-Umfeld.\n\nDie digitale Transfo
 rmation verändert Finanzbereiche grundlegend: Technologien entwickeln s
 ich rasant\, regulatorische Anforderungen steigen und Unternehmen stehen
  zunehmend unter Druck\, ihre Prozesse effizient\, transparent und zukun
 ftssicher zu gestalten. Genau hier setzt Convista mit den FICO-Forum-Inf
 otagen an: Mit einem Mix aus praxisnahen Use Cases\, Panel-Diskussionen\
 , Impulsvorträgen und den interaktiven Treasury Tech Days bieten die be
 iden Infotage im Pullman Hotel Köln ein Forum\, um aktuelle Entwicklung
 en im SAP-Finance-Umfeld einzuordnen\, Praxiserfahrungen zu teilen und d
 en fachlichen Austausch innerhalb der SAP-Finance-Community zu fördern.
 \n\nNeu im Programm der FICO-Forum-Infotage sind 2026 die Treasury Tech 
 Days. Das zusätzliche Format rückt strategische Treasury-Themen\, tech
 nologische Entwicklungen und praxisnahe Anwendungsfälle in den Mittelpu
 nkt. In einem eigenen Vortragsraum finden an beiden Veranstaltungstagen 
 durchgehend Sessions statt\, die sich mit Liquiditätsmanagement\, Finan
 zierung\, Risikosteuerung und modernen Treasury-Systemlandschaften befas
 sen.\n\nDie Agenda und weitere Infos finden Sie unter: https://event.con
 vista.com/event/ficoforum2026/summary
URL;VALUE=URI:https://www.it-finanzmagazin.de/events/convista-fico-forum
 -infotage-finance-im-fokus/
UID:urn:uuid:3b99062d-776b-4385-8f92-f84eb9ea08b6
STATUS:CONFIRMED
ORGANIZER:
DTSTAMP:20260420T104943Z
DTSTART;TZID=Europe/Berlin:20260609T093000
DTEND;TZID=Europe/Berlin:20260610T170000
LOCATION:Pullman Hotel Köln
END:VEVENT
END:VCALENDAR