BEGIN:VCALENDAR
METHOD:PUBLISH
VERSION:2.0
CALSCALE:GREGORIAN
PRODID:-//NONSGML WPForms//NONSGML Sugar Calendar Feeds v3.11.0//EN
X-WR-CALNAME:DatenqualitÃ¤t &amp\; IT-Anforderungen fÃ¼r den Bereich der
  Internen Revision
X-WR-CALDESC:IT Finanzmagazin
X-WR-TIMEZONE:Europe/Berlin
BEGIN:VTIMEZONE
TZID:Europe/Berlin
BEGIN:DAYLIGHT
TZOFFSETFROM:+0100
TZOFFSETTO:+0200
DTSTART:20250330T010000
TZNAME:CEST
END:DAYLIGHT
END:VTIMEZONE
BEGIN:VTIMEZONE
TZID:Europe/Berlin
BEGIN:DAYLIGHT
TZOFFSETFROM:+0100
TZOFFSETTO:+0200
DTSTART:20250330T010000
TZNAME:CEST
END:DAYLIGHT
END:VTIMEZONE
BEGIN:VEVENT
SUMMARY:DatenqualitÃ¤t &amp\; IT-Anforderungen fÃ¼r den Bereich der Inte
 rnen Revision
DESCRIPTION:Vorgaben der Aufsicht zu DatenqualitÃ¤t &amp\; Datenschutz â
 €¢ Effiziente PrÃ¼fungspraxis â€¢ IT-gestÃ¼tzte PrÃ¼fmethoden: Analyse v
 on Daten &amp\; GeschÃ¤ftsprozessen (Process Mining)\nDie Interne Revisi
 on ist Teil desÂ RisikomanagementsÂ und fÃ¼hrt unabhÃ¤ngige PrÃ¼fungen d
 er Prozesse und desÂ Internen KontrollsystemsÂ des Unternehmens durch. I
 mmer mehr rÃ¼ckt dieÂ IT-RevisionÂ in denÂ Fokus der PrÃ¼fungsplanung.Â 
 Auch wenn Teile derÂ IT-Revision ausgelagertÂ sind\, solltenÂ dennoch Ra
 hmenbedingungen und Vorgaben der AufsichtÂ an eine ordnungsgemÃ¤ÃŸe Ausg
 estaltung der IT-PrÃ¼fung bekannt sein. Sie erfahren mehr zu denÂ aktual
 isierten AnforderungenÂ an dieÂ IT-RevisionÂ und erhaltenÂ Best Practice
 s AnsÃ¤tzeÂ fÃ¼r eineÂ effektive UmsetzungÂ der Vorgaben\n\n\n\nSeminarn
 ummer: SE2505004\n\n\nInteressant fÃ¼r die Bereiche: Revision\n\n\n\n\n\
 n\n\n\n\n\n\n07.05.2025\n09:30 - 12:30 Uhr\nOnline\n469\,00 â‚¬\n\n\n\n\
 n\nFilm + Seminardokumentation\n469\,00 â‚¬\n\n\n\n\nSeminarthemen und A
 genda\n\n\n\n\n\nDatenqualitÃ¤t &amp\; IT-Anforderungen fÃ¼r den Bereich
  der Internen Revision\n\n 	Vorgaben der Aufsicht zu DatenqualitÃ¤t &amp
 \; Datenschutz\n 	Praktische Umsetzung der Anforderungen\n 	IT-gestÃ¼tzt
 e PrÃ¼fmethoden: Analyse von Daten &amp\; GeschÃ¤ftsprozessen (Process M
 ining)\n 	Mehr Effizienz in PrÃ¼fungspraxis\n\n&nbsp\;\n\n\n\n\n09:30 - 
 12:30 Uhr\n\n\nAnnerose Debes\nGruppenleiterin IT-Organisation\nKreisspa
 rkasse Gelnhausen\nLangjÃ¤hrige Erfahrung als (IT)-Revisorin\, aktuell L
 eiterin der IT-Orga der Sparkasse Gelnhausen\n\n\n\n\n\n\nBuchen Sie rec
 htzeitig Ã¼ber den Webshop und profitieren Sie von unserem FrÃ¼hbucherra
 batt! Bei einer Buchung bis 4 Wochen vor dem Seminar\, erhalten Sie 10 %
  Nachlass!
URL;VALUE=URI:https://www.it-finanzmagazin.de/events/datenqualitaet-it-a
 nforderungen-fuer-den-bereich-der-internen-revision/
UID:urn:uuid:494af18a-a288-4f3f-af84-43c9cca57629
STATUS:CONFIRMED
ORGANIZER:
DTSTAMP:20260419T124920Z
DTSTART;TZID=Europe/Berlin:20250507T093000
DTEND;TZID=Europe/Berlin:20250507T123000
LOCATION:Online
END:VEVENT
END:VCALENDAR