BEGIN:VCALENDAR
METHOD:PUBLISH
VERSION:2.0
CALSCALE:GREGORIAN
PRODID:-//NONSGML WPForms//NONSGML Sugar Calendar Feeds v3.11.0//EN
X-WR-CALNAME:E-Invoicing Exchange Summit Dublin
X-WR-CALDESC:IT Finanzmagazin
X-WR-TIMEZONE:Europe/Berlin
BEGIN:VTIMEZONE
TZID:Europe/Berlin
BEGIN:DAYLIGHT
TZOFFSETFROM:+0200
TZOFFSETTO:+0200
DTSTART:20230402T120000
TZNAME:CEST
END:DAYLIGHT
END:VTIMEZONE
BEGIN:VTIMEZONE
TZID:Europe/Berlin
BEGIN:DAYLIGHT
TZOFFSETFROM:+0200
TZOFFSETTO:+0200
DTSTART:20230402T120000
TZNAME:CEST
END:DAYLIGHT
END:VTIMEZONE
BEGIN:VEVENT
SUMMARY:E-Invoicing Exchange Summit Dublin
DESCRIPTION:The E-Invoicing Exchange Summit Europe will be held in Dubli
 n from October 2 to 4\, 2023. At this global platform you will get in-de
 pth information about recent developments and future trends in the field
  of E-Invoicing\, E-Reporting and beyond. You will also get in personal 
 contact with leading experts from governments and industries to expand y
 our network. On Monday\, October 2 you have the opportunity to start the
  E-Invoicing Exchange Summit by attending the pre-conference workshop da
 y and the Icebreaker Reception in the evening\, the conference itself wi
 ll take place on Tuesday and Wednesday October 3 and 4\, 2023.\n\nKey to
 pics to be covered\n+ The Commission´s Proposal on VAT in the Digital A
 ge - State of Play\n+ Peppol and Decentralised Continuous Transaction Co
 ntrols (DCTCE)\n+ What Governments Can Do to Ease CTC Introductions\n+ R
 equirements and Technical Specification to Extend EN 16931 for B2B E-Inv
 oicing\n+ Preparing for E-Invoicing from a Finance\, IT\, and Tax Perspe
 ctive\n+ Update on Global Regulatory Compliance and Legal Frameworks for
  B2B\, B2G and B2C\n+ Maximising Efficiency Potentials for Businesses un
 der ViDA E-Invoicing\n+ The Common European Model for Electronic Exchang
 e of Invoices and Tax Related Data "DCTCE" in The Light of ViDA: Is It a
  Match or Not?\n\nAttending\nRegistration fees range from EUR 1200 to EU
 R 2150. Special rates valid for public sector and typical senders of a h
 igh volume of invoices are available. These tickets are limited and will
  be granted upon request and examination.\n\nFor more information\, agen
 da and registration visit\nhttp://www.exchange-summit.com/dublin
URL;VALUE=URI:https://www.it-finanzmagazin.de/events/e-invoicing-exchang
 e-summit-dublin/
UID:urn:uuid:c2c3a18a-abec-4fce-a997-8783ef9a2be9
STATUS:CONFIRMED
ORGANIZER:
DTSTAMP:20260420T105320Z
DTSTART;VALUE=DATE:20231002
DTEND;VALUE=DATE:20231004
LOCATION:The Convention Centre Dublin (CCD)\, Spencer Dock\, N Wall Quay
 \, North Wall 1\, Dublin\, Irland\, 78467
END:VEVENT
END:VCALENDAR