BEGIN:VCALENDAR
METHOD:PUBLISH
VERSION:2.0
CALSCALE:GREGORIAN
PRODID:-//NONSGML WPForms//NONSGML Sugar Calendar Feeds v3.11.0//EN
X-WR-CALNAME:Fachtagung: Informationssicherheit 2025 – Neue Anforderun
 gen und Best Practice für Kreditinstitute
X-WR-CALDESC:IT Finanzmagazin
X-WR-TIMEZONE:Europe/Berlin
BEGIN:VTIMEZONE
TZID:Europe/Berlin
BEGIN:STANDARD
TZOFFSETFROM:+0200
TZOFFSETTO:+0100
DTSTART:20241027T010000
TZNAME:CET
END:STANDARD
END:VTIMEZONE
BEGIN:VTIMEZONE
TZID:Europe/Berlin
BEGIN:STANDARD
TZOFFSETFROM:+0200
TZOFFSETTO:+0100
DTSTART:20241027T010000
TZNAME:CET
END:STANDARD
END:VTIMEZONE
BEGIN:VEVENT
SUMMARY:Fachtagung: Informationssicherheit 2025 – Neue Anforderungen u
 nd Best Practice für Kreditinstitute
DESCRIPTION:Auch das Jahr 2025 bringt wieder viele Herausforderungen fü
 r das Informationssicherheitsmanagement in Kreditinstituten mit sich.\n\
 nDie Fachtagung bietet Ihnen einen Überblick über aktuelle Regulatorik
 \, Themen und Entwicklungen im Bereich Informationssicherheit sowie Hinw
 eise zur Umsetzung – aus der Praxis für die Praxis. Unsere Referent:i
 nnen beleuchten das Thema Informationssicherheit aus den verschiedenen P
 erspektiven und teilen Best Practice und Erfahrungen bei der Umsetzung d
 er aktuellen Anforderungen.\n\nDie Veranstaltung bietet Ihnen eine ideal
 e Gelegenheit\, um Ihr Netzwerk zu erweitern\, Umsetzungsfragen zu disku
 tieren und sich mit Kolleg:innen aus der Finanzbranche auszutauschen.\n\
 nInhalte\n\n 	Digitalisierung der Finanzbranche: Neue Herausforderungen 
 für die Informationssicherheit\n 	Große KI-Sprachmodelle: Chancen und 
 Risiken\n 	Ausblick und regulatorisches Umfeld nach Anwendungsbeginn von
  DORA\n 	Aus der Bankpraxis: Informationssicherheitsmanagement nach Anwe
 ndungsbeginn von DORA\n 	Testen der digitalen operationellen Resilienz: 
 Etablierung eines risikobasierten Testprogramms und Kriterien für die A
 nbieterauswahl\n 	u. a.\n\n&nbsp\;\n\nAlle Tagungsinhalte werden aktuell
  und zeitnah zusammengestellt.\n\nEine detaillierte Agenda und Informati
 onen zu den Referent:innen werden in Kürze zur Verfügung stehen.\n\nZi
 elgruppe\n\nDie Fachtagung richtet sich an alle Verantwortlichen im Bere
 ich Informationssicherheit: Informationssicherheitsbeauftragte\, Informa
 tionssicherheits- und IT-Sicherheitsmanagement\, BCM und Notfallmanageme
 nt sowie Fach- und Führungskräfte in Revision\, IT &amp\; Orga.\n\nKon
 takt\n\nBei inhaltlichen Fragen wenden Sie sich per Mail an → Andrea 
 van Kessel\n\nProfitieren Sie bis 14. Januar 2025 von unserem Frühbuche
 rrabatt!
URL;VALUE=URI:https://www.it-finanzmagazin.de/events/fachtagung-informat
 ionssicherheit-2025-neue-anforderungen-und-best-practice-fuer-kreditinst
 itute/
UID:urn:uuid:4431495e-df50-41d6-954b-fa0095fe61fb
STATUS:CONFIRMED
ORGANIZER:
DTSTAMP:20260422T091258Z
DTSTART;VALUE=DATE:20250225
LOCATION:Köln oder online\, Wendelinstraße 1\, Köln\, 50933\, Deutsch
 land
END:VEVENT
END:VCALENDAR