BEGIN:VCALENDAR
METHOD:PUBLISH
VERSION:2.0
CALSCALE:GREGORIAN
PRODID:-//NONSGML WPForms//NONSGML Sugar Calendar Feeds v3.11.0//EN
X-WR-CALNAME:IT- Woche
X-WR-CALDESC:IT Finanzmagazin
X-WR-TIMEZONE:Europe/Berlin
BEGIN:VTIMEZONE
TZID:Europe/Berlin
BEGIN:STANDARD
TZOFFSETFROM:+0200
TZOFFSETTO:+0100
DTSTART:20251026T010000
TZNAME:CET
END:STANDARD
BEGIN:DAYLIGHT
TZOFFSETFROM:+0100
TZOFFSETTO:+0200
DTSTART:20260329T010000
TZNAME:CEST
END:DAYLIGHT
END:VTIMEZONE
BEGIN:VTIMEZONE
TZID:Europe/Berlin
BEGIN:STANDARD
TZOFFSETFROM:+0200
TZOFFSETTO:+0100
DTSTART:20251026T010000
TZNAME:CET
END:STANDARD
BEGIN:DAYLIGHT
TZOFFSETFROM:+0100
TZOFFSETTO:+0200
DTSTART:20260329T010000
TZNAME:CEST
END:DAYLIGHT
END:VTIMEZONE
BEGIN:VEVENT
SUMMARY:IT- Woche
DESCRIPTION:IT-Sicherheitsmanagement\, Facharchitektur &amp\; Business-I
 T-Alignment in Versicherungen\, Cloud-Einsatz\, Legacy IT sowie KI und s
 elbstlernende Systeme bilden zusammen wichtige Bestandteile für eine mo
 derne und zukunftssichere IT-Landschaft in Versicherungsunternehmen.\n\n
 Aufgrund dessen bietet die IT-Woche an fünf aufeinanderfolgenden Tagen 
 fünf Konferenzen\, um einen ganzheitlichen Blick über die verschiedene
 n Fachbereiche zu erhalten. Es werden sowohl die neuesten Trends und Ent
 wicklungen in der Versicherungsbranche betrachtet als auch die Möglichk
 eit geboten\, das eigene Branchenwissen zu vertiefen sowie Herausforderu
 ngen und Chancen während der gewählten Konferenz(en) zu diskutieren.\n
 \nEntdecken Sie zudem die Möglichkeit\, sich in Ihrem Bereich oder angr
 enzender Themen auszutauschen\, mit anderen IT-Experten Kontakte zu knü
 pfen\, das eigene Netzwerk zu erweitern und einen Blick über den Teller
 rand zu werfen.
URL;VALUE=URI:https://www.it-finanzmagazin.de/events/it-woche-3/
UID:urn:uuid:5fb8c7c3-c823-45e7-b092-3342d6ce0b49
STATUS:CONFIRMED
ORGANIZER:
DTSTAMP:20260420T105309Z
DTSTART;TZID=Europe/Berlin:20260420T100000
DTEND;TZID=Europe/Berlin:20260424T140000
LOCATION:Leipzig
END:VEVENT
END:VCALENDAR