BEGIN:VCALENDAR
METHOD:PUBLISH
VERSION:2.0
CALSCALE:GREGORIAN
PRODID:-//NONSGML WPForms//NONSGML Sugar Calendar Feeds v3.11.0//EN
X-WR-CALNAME:Unchained Festival - the Fintech Festival
X-WR-CALDESC:IT Finanzmagazin
X-WR-TIMEZONE:Europe/Berlin
BEGIN:VTIMEZONE
TZID:Europe/Berlin
BEGIN:DAYLIGHT
TZOFFSETFROM:+0100
TZOFFSETTO:+0200
DTSTART:20260329T010000
TZNAME:CEST
END:DAYLIGHT
END:VTIMEZONE
BEGIN:VTIMEZONE
TZID:Europe/Berlin
BEGIN:DAYLIGHT
TZOFFSETFROM:+0100
TZOFFSETTO:+0200
DTSTART:20260329T010000
TZNAME:CEST
END:DAYLIGHT
END:VTIMEZONE
BEGIN:VEVENT
SUMMARY:Unchained Festival - the Fintech Festival
DESCRIPTION:Das UNCHAIN Festival geht in die fünfte Runde – und setzt
  dabei erneut auf eine außergewöhnliche Location: die historische Fest
 ung von Oradea. Am 17. und 18. Juni 2026 treffen hier über 800 Führung
 skräfte und Entscheidungsträger aus mehr als 40 Ländern aufeinander.\
 n\nDas Event bringt Finanzinstitute\, Regulatoren\, Technologieanbieter 
 und Branchenvertreter zusammen und schafft damit einen Rahmen für den A
 ustausch zu aktuellen Entwicklungen im Finanzsektor – von Payments üb
 er digitale Assets bis hin zu Infrastrukturthemen.\n\nDie Kombination au
 s hochkarätigem Teilnehmerfeld und besonderer Kulisse macht das UNCHAIN
  Festival zu einem der spannenderen Formate im europäischen FinTech-Kal
 ender.\n\nWebsite: https://unchainfestival.com/
URL;VALUE=URI:https://www.it-finanzmagazin.de/events/unchained-festival/
UID:urn:uuid:40876b3e-1e19-4ab5-906c-05d3f4962add
STATUS:CONFIRMED
ORGANIZER:
DTSTAMP:20260420T004713Z
DTSTART;TZID=Europe/Berlin:20260617T090000
DTEND;TZID=Europe/Berlin:20260618T170000
LOCATION:Oradea\, Rumänien
END:VEVENT
END:VCALENDAR