BEGIN:VCALENDAR
METHOD:PUBLISH
VERSION:2.0
CALSCALE:GREGORIAN
PRODID:-//NONSGML WPForms//NONSGML Sugar Calendar Feeds v3.11.0//EN
X-WR-CALNAME:Zertifizierter Datenschutzbeauftragter Finanzdienstleister 
 (msg/HfWU)
X-WR-CALDESC:IT Finanzmagazin
X-WR-TIMEZONE:Europe/Berlin
BEGIN:VTIMEZONE
TZID:Europe/Berlin
BEGIN:DAYLIGHT
TZOFFSETFROM:+0100
TZOFFSETTO:+0200
DTSTART:20260329T010000
TZNAME:CEST
END:DAYLIGHT
END:VTIMEZONE
BEGIN:VTIMEZONE
TZID:Europe/Berlin
BEGIN:DAYLIGHT
TZOFFSETFROM:+0100
TZOFFSETTO:+0200
DTSTART:20260329T010000
TZNAME:CEST
END:DAYLIGHT
END:VTIMEZONE
BEGIN:VEVENT
SUMMARY:Zertifizierter Datenschutzbeauftragter Finanzdienstleister (msg/
 HfWU)
DESCRIPTION:Zertifizierter Lehrgang auf Hochschulniveau\nWie lassen sich
  Datenschutzanforderungen im Finanzsektor rechtssicher und praxisnah ums
 etzen? Welche branchenspezifischen Pflichten gelten fÃ¼r Datenschutzbeau
 ftragte in Finanzinstituten? Und wie kÃ¶nnen Schulungen\, Kontrollsystem
 e und Auslagerungsprozesse DSGVO-konform gestaltet werden?\n\nDer Zertif
 ikatslehrgang â€žZertifizierter Datenschutzbeauftragter Finanzdienstleis
 ter (msg/HfWU)â€œ ist ein Aufbauzertifikat unseres Zertifikatslehrgangs 
 â€žZertifizierter Datenschutzbeauftragter (msg/ HfWU)â€œ und ergÃ¤nzt da
 s dortige Zertifikat. Der Lehrgang vermittelt fundiertes Fachwissen zu b
 ranchenspezifischen Datenschutzanforderungen im Finanzsektor\, zur Umset
 zung von Awareness-MaÃŸnahmen\, internen Kontrollsystemen sowie zu daten
 schutzkonformen Auslagerungsprozessen.\n\nDabei erhalten Sie praxisnahe 
 Einblicke in die spezifischen Anforderungen an den Datenschutz in Finanz
 instituten â€“ strukturiert\, rechtssicher und auf Hochschulniveau. Der 
 Lehrgang schlieÃŸt mit einer Zertifizierung bei derâ€¯HfWU Akademie e.Vâ
 €¯ab und setzt den erfolgreichen Abschluss des Moduls sowie eine Abschlu
 ssarbeit in Form einer Hausarbeit voraus.\n\nInhalte:\nSie lernen\, date
 nschutzspezifische Anforderungen im Finanzsektor praxisnah umzusetzen un
 d Mitarbeitende gezielt zu sensibilisieren. Dabei erhalten Sie Einblicke
  in Kontrollstrukturen\, Auditprozesse und die Integration von Datenschu
 tz in Auslagerung und Third-Party-Management.\n\nInhalte im Ãœberblick:\
 n- Entwicklung und DurchfÃ¼hrung zielgruppenspezifischer Datenschutzschu
 lungen mit Fokus auf Finanzprodukte und -prozesse\n- Sensibilisierung fÃ
 ¼r Datenschutzrisiken bei KontoeÃ¶ffnung\, Zahlungsverkehr\, Kreditverga
 be und Kundenkommunikation\n- Datenschutzanforderungen bei der Nutzung v
 on Videoident\, elektronischer Signatur und digitalen Kundenportalen\n- 
 Umgang mit besonders schÃ¼tzenswerten Daten im Finanzsektor (z.â€¯B. Bon
 itÃ¤tsdaten\, Finanzinformationen)\n- Aufbau und Pflege von Datenschutz-
 Compliance-Strukturen unter BerÃ¼cksichtigung regulatorischer Anforderun
 gen (MaRisk\, EBA-Leitlinien)\n- DurchfÃ¼hrung von internen Audits\, Dat
 enschutz-Kontrollen und Risikoanalysen im Rahmen des Compliance-Manageme
 nts\n- Integration von Datenschutz in Auslagerungsprozesse und Third-Par
 ty-Management\n- Dokumentation und Nachweis der Schulungs- und Kontrollm
 aÃŸnahmen gegenÃ¼ber AufsichtsbehÃ¶rden und interner Revision\n\nIhr Meh
 rwert:\n- Spezialisierung auf branchenspezifische Datenschutzanforderung
 en fÃ¼r Finanzdienstleister\n- Starker Praxisbezug mit konkreten Methode
 n\, Mustervorlagen und finanzspezifischen Fallbeispielen\n- Abdeckung al
 ler Kernaufgaben: Schulung\, Kontrollsysteme\, Auslagerung\, Dokumentati
 on und Aufsichtsnachweis\n- Fokus auf aktuelle Themen: MaRisk\, EBA-Leit
 linien\, Videoident\, Third-Party-Management und Datenschutz-Audits\n- I
 deal fÃ¼r Datenschutzbeauftragte\, Compliance- und Risikofunktionen sowi
 e IT-Verantwortliche in Finanzinstituten\n\nZielgruppe:\nDatenschutzbeau
 ftragte\, Compliance-Funktionen\, Risikomanager und IT-Verantwortliche i
 n Banken\, Sparkassen und anderen Finanzdienstleistern\, die ihre Kenntn
 isse zu DSGVO-Anforderungen im Finanzsektor\, zur Umsetzung von Schulung
 en\, internen Kontrollsystemen und datenschutzkonformer Auslagerung vert
 iefen mÃ¶chten.\nReferenten\nRalf KÃ¼hn\nfinance-consult.partners - Prof
 . Dr. Ralf KÃ¼hn ist WirtschaftsprÃ¼fer\, Steuerberater und Certified Pu
 blic Accountant (USA) sowie Certified Internal Auditor (CIA) und Certifi
 ed Information Systems Auditor (CISA). DarÃ¼ber hinaus ist er zertifizie
 rter Datenschutzbeauftragter und Datenschutzauditor (TÃœV). Er ist orden
 tlicher Professor fÃ¼r â€žAccounting\, Audit &amp\; Taxationâ€œ an der I
 nternational School of Management (ISM) in Frankfurt am Main sowie gesch
 Ã¤ftsfÃ¼hrender Gesellschafter einer WirtschaftsprÃ¼fungs- und Steuerber
 atungsgesellschaft. Seine beruflichen Schwerpunkte liegen in den Bereich
 en Interne Revision\, IT-Governance\, IT-Compliance\, Datenschutz sowie 
 Gesamtbanksteuerung. Er verfÃ¼gt Ã¼ber langjÃ¤hrige Erfahrung in der PrÃ
 ¼fung und Beratung von Kreditinstituten sowie in der Leitung von IT-PrÃ¼
 fungs- und Compliance-Funktionen. Neben seiner BeratungstÃ¤tigkeit ist P
 rof. Dr. KÃ¼hn als Dozent fÃ¼r verschiedene Akademien der Sparkassen- un
 d Genossenschaftsorganisation tÃ¤tig und Autor zahlreicher Fachpublikati
 onen.\n\nVeranstaltungsort:\nDiese Veranstaltung findet online statt. Si
 e kÃ¶nnen also ganz bequem von ihrem Rechner aus teilnehmen. FÃ¼r unsere
  Online-Veranstaltungen nutzen wir das Videokonferenz-Tool MS Teams.
URL;VALUE=URI:https://www.it-finanzmagazin.de/events/zertifizierter-date
 nschutzbeauftragter-finanzdienstleister-msg-hfwu/
UID:urn:uuid:c786a9f2-4349-4cf7-a3f7-34aba77abedb
STATUS:CONFIRMED
ORGANIZER:
DTSTAMP:20260420T004925Z
DTSTART;TZID=Europe/Berlin:20260704T090000
DTEND;TZID=Europe/Berlin:20260704T130000
LOCATION:Online
END:VEVENT
END:VCALENDAR