BEGIN:VCALENDAR
METHOD:PUBLISH
VERSION:2.0
CALSCALE:GREGORIAN
PRODID:-//NONSGML WPForms//NONSGML Sugar Calendar Feeds v3.11.0//EN
X-WR-CALNAME:Zertifizierter Datenschutzbeauftragter (msg/ HfWU)
X-WR-CALDESC:IT Finanzmagazin
X-WR-TIMEZONE:Europe/Berlin
BEGIN:VTIMEZONE
TZID:Europe/Berlin
BEGIN:DAYLIGHT
TZOFFSETFROM:+0100
TZOFFSETTO:+0200
DTSTART:20260329T010000
TZNAME:CEST
END:DAYLIGHT
END:VTIMEZONE
BEGIN:VTIMEZONE
TZID:Europe/Berlin
BEGIN:DAYLIGHT
TZOFFSETFROM:+0100
TZOFFSETTO:+0200
DTSTART:20260329T010000
TZNAME:CEST
END:DAYLIGHT
END:VTIMEZONE
BEGIN:VEVENT
SUMMARY:Zertifizierter Datenschutzbeauftragter (msg/ HfWU)
DESCRIPTION:Zertifizierter Lehrgang auf Hochschulniveau\nWie setzen Unte
 rnehmen die Anforderungen der DSGVO und des BDSG rechtssicher um? Welche
  Pflichten ergeben sich bei Datenschutz-Folgenabschätzungen\, Löschkon
 zepten und der Wahrung von Betroffenenrechten?\n\nDer Zertifikatslehrgan
 g „Zertifizierter Datenschutzbeauftragter (msg/HfWU)“ vermittelt Ihn
 en in 3 Modulen à 4 Stunden fundiertes Fachwissen zu rechtlichen Anford
 erungen\, technischen Schutzmaßnahmen und datenschutzkonformen Prozesse
 n in Unternehmen.\n\nDabei lernen Sie\, Datenschutzorganisation\, Dokume
 ntation und Meldepflichten strukturiert umzusetzen – praxisnah\, verst
 ändlich und auf Hochschulniveau. Der Lehrgang schließt mit einer Zerti
 fizierung bei der HfWU Akademie e.V. ab und setzt den erfolgreichen Absc
 hluss aller Module sowie eine Abschlussarbeit in Form einer Hausarbeit v
 oraus.\nInhalte:\nModul 1: Datenschutz verstehen – Rechtliche Grundlag
 en\, DSGVO-Pflichten und Anwendungsfelder für Unternehmen\n\nModul 2: D
 atenschutz sicher umsetzen – IT-Sicherheit\, Systeme\, Cloud-Nutzung u
 nd technische Schutzmaßnahmen im Fokus\n\nModul 3: Datenschutzprozesse 
 effizient gestalten – Meldepflichten\, Betroffenenrechte und Dokumenta
 tion rechtskonform umsetzen\n\nZielgruppe:\nDer Lehrgang richtet sich an
  Fach und Führungskräfte\, die Verantwortung für Datenschutz\, Compli
 ance oder IT-Sicherheit tragen und datenschutzrechtliche Anforderungen s
 icher umsetzen müssen. Er eignet sich sowohl für angehende als auch be
 reits bestellte Datenschutzbeauftragte sowie für Mitarbeiterinnen und M
 itarbeiter aus Bereichen\, die regelmäßig mit personenbezogenen Daten 
 arbeiten.\n\nAgenda:\n\nModul 1: Datenschutz verstehen – Rechtliche Gr
 undlagen\, DSGVO-Pflichten und Anwendungsfelder für Unternehmen (29.06.
 2026\, 13:00 – 17:00 Uhr)\n\nSie lernen die zentralen Prinzipien der D
 SGVO und des BDSG kennen und erfahren\, wie Informationspflichten\, Rech
 enschaftspflichten und Betroffenenrechte in der Praxis umgesetzt werden.
  Außerdem erhalten Sie einen Überblick über Datenschutz-Folgenabschä
 tzungen\, Löschkonzepte und die Rolle der Datenschutzaufsichtsbehörden
 .\n\nInhalte im Überblick\n- Grundprinzipien der DSGVO und des BDSG: Re
 chtmäßigkeit\, Datenminimierung\, Zweckbindung\n- Rollenverständnis: 
 Verantwortlicher\, Auftragsverarbeiter\, Dritter\n- Informationspflichte
 n und Transparenz gegenüber Betroffenen\n- Rechenschaftspflicht\, Daten
 schutz-Folgenabschätzung\, Löschkonzepte\n- Grundlagen der behördlich
 en Kontrolle durch Datenschutzaufsichtsbehörden\n\nModul 2: Datenschutz
  sicher umsetzen – IT-Sicherheit\, Systeme\, Cloud-Nutzung und technis
 che Schutzmaßnahmen im Fokus (30.06.2026\, 09:00 – 13:00 Uhr)\n\nSie 
 lernen\, technisch-organisatorische Maßnahmen nach DSGVO zu planen und 
 umzusetzen sowie Datenschutzanforderungen bei neuen Systemen und Cloud-D
 iensten zu berücksichtigen. Außerdem erfahren Sie\, wie Auftragsverarb
 eitung\, Drittstaatentransfers und Datensicherheitsvorfälle rechtssiche
 r gesteuert werden.\n\nInhalte im Überblick:\n- Technisch-organisatoris
 che Maßnahmen (TOMs) nach Art. 32 DSGVO: Zutritts-\, Zugriffs-\, Eingab
 ekontrolle u. a.\n- Datenschutz bei der Einführung neuer Systeme: Priva
 cy by Design &amp\; Default (Art. 25 DSGVO)\n- Anforderungen an Cloud-Di
 enste\, Anbieterprüfung\, Shared Responsibility und Datenlokalisierung\
 n- Auftragsverarbeitung: Auswahl\, Vertragspflichten\, Weisungskontrolle
  und Monitoring\n- Drittlandtransfers: Standardvertragsklauseln\, Angeme
 ssenheitsbeschlüsse und Risikoprüfung nach Schrems II\n- Datensicherhe
 itsvorfälle: technisches Notfallmanagement und Meldevorbereitung\n\nMod
 ul 3: Datenschutzprozesse effizient gestalten – Meldepflichten\, Betro
 ffenenrechte und Dokumentation rechtskonform umsetzen (03.07.2026\, 09:0
 0 – 13:00 Uhr)\n\nSie lernen\, Verzeichnisse der Verarbeitungstätigke
 iten aufzubauen\, Datenschutzverletzungen zu bewerten und fristgerecht z
 u melden sowie Betroffenenrechte korrekt umzusetzen. Darüber hinaus erf
 ahren Sie\, wie Datenschutzrichtlinien entwickelt und Dokumentationspfli
 chten gegenüber Aufsichtsbehörden erfüllt werden.\n\nInhalte im Über
 blick:\n- Aufbau und Pflege von Verzeichnissen der Verarbeitungstätigke
 iten (VVT)\n- Erkennung\, Bewertung und fristgerechte Meldung von Datens
 chutzverletzungen (Art. 33/34 DSGVO)\n- Umsetzung und Wahrung der Betrof
 fenenrechte (Auskunft\, Löschung\, Berichtigung)\n- Entwicklung und Ums
 etzung von Datenschutzrichtlinien und internen Prozessen\n- Anforderunge
 n an Dokumentation und Nachweisführung gegenüber Aufsichtsbehörden\n-
  Integration datenschutzrechtlicher Vorgaben in interne Abläufe und Kom
 munikationsprozesse\nReferenten:\nChristian Maull\nDatenschutzbeauftragt
 er\, Grenke AG - Christian Maull ist Global Data Protection Counsel und 
 Deputy Data Privacy Officer bei einem international agierenden Finanzdie
 nstleister. Er verbindet langjährige Erfahrung im Bankenumfeld als inte
 rner wie auch externer Beauftragter und Berater in den Bereichen Datensc
 hutz\, Compliance und Governance. Zudem ist er Prokurist einer spezialis
 ierten Beratungsgesellschaft und Dozent für Compliance. Er promoviert z
 ur Integration von künstlicher Intelligenz in Governance-Modelle.\n\nRa
 lf Kühn\nfinance-consult.partners - Prof. Dr. Ralf Kühn ist Wirtschaft
 sprüfer\, Steuerberater und Certified Public Accountant (USA) sowie Cer
 tified Internal Auditor (CIA) und Certified Information Systems Auditor 
 (CISA). Darüber hinaus ist er zertifizierter Datenschutzbeauftragter un
 d Datenschutzauditor (TÜV). Er ist ordentlicher Professor für „Accou
 nting\, Audit &amp\; Taxation“ an der International School of Manageme
 nt (ISM) in Frankfurt am Main sowie geschäftsführender Gesellschafter 
 einer Wirtschaftsprüfungs- und Steuerberatungsgesellschaft. Seine beruf
 lichen Schwerpunkte liegen in den Bereichen Interne Revision\, IT-Govern
 ance\, IT-Compliance\, Datenschutz sowie Gesamtbanksteuerung. Er verfüg
 t über langjährige Erfahrung in der Prüfung und Beratung von Kreditin
 stituten sowie in der Leitung von IT-Prüfungs- und Compliance-Funktione
 n. Neben seiner Beratungstätigkeit ist Prof. Dr. Kühn als Dozent für 
 verschiedene Akademien der Sparkassen- und Genossenschaftsorganisation t
 ätig und Autor zahlreicher Fachpublikationen.\n\nVeranstaltungsort:\nDi
 ese Veranstaltung findet online statt. Sie können also ganz bequem von 
 ihrem Rechner aus teilnehmen. Für unsere Online-Veranstaltungen nutzen 
 wir das Videokonferenz-Tool MS Teams.
URL;VALUE=URI:https://www.it-finanzmagazin.de/events/zertifizierter-date
 nschutzbeauftragter-msg-hfwu/
UID:urn:uuid:d369ff5b-c8c2-4650-a35c-43e3605ed0d3
STATUS:CONFIRMED
ORGANIZER:
DTSTAMP:20260420T004719Z
DTSTART;TZID=Europe/Berlin:20260629T130000
DTEND;TZID=Europe/Berlin:20260703T130000
LOCATION:Online
END:VEVENT
END:VCALENDAR